BEGIN:VCALENDAR
VERSION:2.0
PRODID:-//ZContent.net//ZapCalLib 1.0//EN
CALSCALE:GREGORIAN
METHOD:PUBLISH
BEGIN:VEVENT
SUMMARY:Die Unverzichtbaren | Über Arbeit und Anerkennung
DTSTART:20251111T190000
DTEND:20251111T203000
UID:2026-04-23-04-49-10-0-@calendar.boell.de
DTSTAMP:20260423T024910
DESCRIPTION:Gera – Landesstiftung Thüringen
END:VEVENT
END:VCALENDAR
