BEGIN:VCALENDAR
VERSION:2.0
PRODID:-//ZContent.net//ZapCalLib 1.0//EN
CALSCALE:GREGORIAN
METHOD:PUBLISH
BEGIN:VEVENT
SUMMARY:Über rechten Terror in Griechenland: „Die Nacht, in der Pavlos g
 ing“ von Xenophon Contiades | Buchvorstellung und Paneldiskussion
DTSTART:20251027T183000
DTEND:20251027T203000
UID:2026-04-23-03-24-51-0-@calendar.boell.de
DTSTAMP:20260423T012451
DESCRIPTION:Heinrich-Böll-Stiftung - Bundesstiftung Berlin – Berlin – 
 Heinrich-Böll-Stiftung - Bundesstiftung Berlin
END:VEVENT
END:VCALENDAR
