BEGIN:VCALENDAR
VERSION:2.0
PRODID:-//ZContent.net//ZapCalLib 1.0//EN
CALSCALE:GREGORIAN
METHOD:PUBLISH
BEGIN:VEVENT
SUMMARY:Wepsert: 'Zeit.Raum' | Ein Schreib- und Selbstbehauptungsworkshop f
 ür FLINTA*
DTSTART:20251017T160000
DTEND:20251019T160000
UID:2026-04-23-20-25-23-0-@calendar.boell.de
DTSTAMP:20260423T182523
DESCRIPTION:▶ Siehe Veranstaltungsbeschreibung – Landesstiftung Branden
 burg
END:VEVENT
END:VCALENDAR
