BEGIN:VCALENDAR
VERSION:2.0
PRODID:-//ZContent.net//ZapCalLib 1.0//EN
CALSCALE:GREGORIAN
METHOD:PUBLISH
BEGIN:VEVENT
SUMMARY:Social Media Akademie Baden-Württemberg | Skills, Storytelling, Ne
 tzwerk
DTSTART:20251018T100000
DTEND:20251018T183000
UID:2026-04-23-20-25-17-0-@calendar.boell.de
DTSTAMP:20260423T182517
DESCRIPTION:Stuttgart – Heinrich Böll Stiftung Baden-Württemberg
END:VEVENT
END:VCALENDAR
