BEGIN:VCALENDAR
VERSION:2.0
PRODID:-//ZContent.net//ZapCalLib 1.0//EN
CALSCALE:GREGORIAN
METHOD:PUBLISH
BEGIN:VEVENT
SUMMARY:Die Möllner Briefe | Film und Gespräch
DTSTART:20250916T000000
DTEND:20250916T235900
UID:2026-04-24-03-25-38-0-@calendar.boell.de
DTSTAMP:20260424T012538
DESCRIPTION:▶ Siehe Veranstaltungsbeschreibung – Köln – Landesstiftu
 ng Nordrhein-Westfalen
END:VEVENT
END:VCALENDAR
