BEGIN:VCALENDAR
VERSION:2.0
PRODID:-//ZContent.net//ZapCalLib 1.0//EN
CALSCALE:GREGORIAN
METHOD:PUBLISH
BEGIN:VEVENT
SUMMARY:Zukunft des Freihandels – Grüne & regionale Perspektiven  | Hand
 elsbeziehungen zwischen der EU und Lateinamerika (Mercosur und Mexiko)
DTSTART:20251016T160000
DTEND:20251016T180000
UID:2026-04-23-22-29-25-0-@calendar.boell.de
DTSTAMP:20260423T202925
DESCRIPTION:▶ Heinrich-Böll-Stiftung\, Bundesstiftung Berlin sowie Onlin
 e – Heinrich-Böll-Stiftung - Bundesstiftung Berlin
END:VEVENT
END:VCALENDAR
