BEGIN:VCALENDAR
VERSION:2.0
PRODID:-//ZContent.net//ZapCalLib 1.0//EN
CALSCALE:GREGORIAN
METHOD:PUBLISH
BEGIN:VEVENT
SUMMARY:Reproductive Futures | Feministische Visionen für gerechte Sorge
DTSTART:20251121T190000
DTEND:20251122T203000
UID:2026-04-24-11-48-38-0-@calendar.boell.de
DTSTAMP:20260424T094838
DESCRIPTION:Berlin – Gunda-Werner-Institut für Feminismus und Geschlecht
 erdemokratie
END:VEVENT
BEGIN:VEVENT
SUMMARY:Reproductive Futures | Feministische Visionen für gerechte Sorge
DTSTART:20251121T190000
DTEND:20251121T220000
UID:2026-04-24-09-48-38-1-@calendar.boell.de
DTSTAMP:20260424T094838
DESCRIPTION:Berlin – Gunda-Werner-Institut für Feminismus und Geschlecht
 erdemokratie
END:VEVENT
BEGIN:VEVENT
SUMMARY:Reproductive Futures | Feministische Visionen für gerechte Sorge
DTSTART:20251122T104500
DTEND:20251122T203000
UID:2026-04-24-09-48-38-2-@calendar.boell.de
DTSTAMP:20260424T094838
DESCRIPTION:Berlin – Gunda-Werner-Institut für Feminismus und Geschlecht
 erdemokratie
END:VEVENT
END:VCALENDAR
