BEGIN:VCALENDAR
VERSION:2.0
PRODID:-//ZContent.net//ZapCalLib 1.0//EN
CALSCALE:GREGORIAN
METHOD:PUBLISH
BEGIN:VEVENT
SUMMARY:Antifeminismus begegnen â€“ Kollegiale Austauschrunde | Vernetzen â
 €“ Erfahrungen austauschen â€“ kollegial beraten
DTSTART:20250925T130000
DTEND:20250925T150000
UID:2026-04-24-05-34-13-0-@calendar.boell.de
DTSTAMP:20260424T033413
DESCRIPTION:â–¶ Online-Veranstaltung â€“ Gunda-Werner-Institut fÃ¼r Feminis
 mus und Geschlechterdemokratie
END:VEVENT
END:VCALENDAR
