BEGIN:VCALENDAR
VERSION:2.0
PRODID:-//ZContent.net//ZapCalLib 1.0//EN
CALSCALE:GREGORIAN
METHOD:PUBLISH
BEGIN:VEVENT
SUMMARY:Hannah Arendt | Denken ist gefährlich
DTSTART:20250918T180000
DTEND:20250918T201500
UID:2026-04-23-04-49-27-0-@calendar.boell.de
DTSTAMP:20260423T024927
DESCRIPTION:▶ Siehe Veranstaltungsbeschreibung – Hamburg – Landesstif
 tung Hamburg
END:VEVENT
END:VCALENDAR
