BEGIN:VCALENDAR
VERSION:2.0
PRODID:-//ZContent.net//ZapCalLib 1.0//EN
CALSCALE:GREGORIAN
METHOD:PUBLISH
BEGIN:VEVENT
SUMMARY:Antifeminismus und Provinzialität | Anregungen aus der Forschung f
 ür die Praxis der Demokratiearbeit
DTSTART:20251017T140000
DTEND:20251017T190000
UID:2026-04-24-22-53-22-0-@calendar.boell.de
DTSTAMP:20260424T205322
DESCRIPTION:Heinrich-Böll-Stiftung - Bundesstiftung Berlin – Berlin – 
 Gunda-Werner-Institut für Feminismus und Geschlechterdemokratie
END:VEVENT
END:VCALENDAR
