BEGIN:VCALENDAR
VERSION:2.0
PRODID:-//ZContent.net//ZapCalLib 1.0//EN
CALSCALE:GREGORIAN
METHOD:PUBLISH
BEGIN:VEVENT
SUMMARY:Den kommunalen Haushalt verstehen und erfolgreich gestalten  | Öff
 entliche Finanzen strategisch und nachhaltig planen
DTSTART:20251011T100000
DTEND:20251011T133000
UID:2026-04-25-05-00-09-0-@calendar.boell.de
DTSTAMP:20260425T030009
DESCRIPTION:▶ Online-Veranstaltung – Petra-Kelly-Stiftung
END:VEVENT
END:VCALENDAR
