BEGIN:VCALENDAR
VERSION:2.0
PRODID:-//ZContent.net//ZapCalLib 1.0//EN
CALSCALE:GREGORIAN
METHOD:PUBLISH
BEGIN:VEVENT
SUMMARY:Zwischen Willkommenskultur und Abschottung | Eine Dekade Flucht und
  Ankommen in Deutschland
DTSTART:20251021T100000
DTEND:20251021T180000
UID:2026-04-22-19-57-26-0-@calendar.boell.de
DTSTAMP:20260422T175726
DESCRIPTION:Heinrich-Böll-Stiftung - Bundesstiftung Berlin – Berlin – 
 Heinrich-Böll-Stiftung - Bundesstiftung Berlin
END:VEVENT
END:VCALENDAR
