BEGIN:VCALENDAR
VERSION:2.0
PRODID:-//ZContent.net//ZapCalLib 1.0//EN
CALSCALE:GREGORIAN
METHOD:PUBLISH
BEGIN:VEVENT
SUMMARY:Holding  Liat | mit anschließender Diskussion
DTSTART:20250911T193000
DTEND:20250911T214500
UID:2026-04-23-01-35-44-0-@calendar.boell.de
DTSTAMP:20260422T233544
DESCRIPTION:▶ Siehe Veranstaltungsbeschreibung – Hamburg – Landesstif
 tung Hamburg
END:VEVENT
END:VCALENDAR
