BEGIN:VCALENDAR
VERSION:2.0
PRODID:-//ZContent.net//ZapCalLib 1.0//EN
CALSCALE:GREGORIAN
METHOD:PUBLISH
BEGIN:VEVENT
SUMMARY:Einladung zum digitalen Austausch zum Thema Haushalt
DTSTART:20250902T130000
DTEND:20250902T133000
UID:2026-04-25-03-31-20-0-@calendar.boell.de
DTSTAMP:20260425T013120
DESCRIPTION:▶ Online-Veranstaltung – Heinrich-Böll-Stiftung - Bundesst
 iftung Berlin
END:VEVENT
END:VCALENDAR
