BEGIN:VCALENDAR
VERSION:2.0
PRODID:-//ZContent.net//ZapCalLib 1.0//EN
CALSCALE:GREGORIAN
METHOD:PUBLISH
BEGIN:VEVENT
SUMMARY:Allyship – Solidarisch gegen Rassismus!
DTSTART:20251120T170000
DTEND:20251120T200000
UID:2026-04-23-06-43-24-0-@calendar.boell.de
DTSTAMP:20260423T044324
DESCRIPTION:▶ Siehe Veranstaltungsbeschreibung – Landesstiftung Berlin 
 (Bildungswerk)
END:VEVENT
END:VCALENDAR
