BEGIN:VCALENDAR
VERSION:2.0
PRODID:-//ZContent.net//ZapCalLib 1.0//EN
CALSCALE:GREGORIAN
METHOD:PUBLISH
BEGIN:VEVENT
SUMMARY:Mobli kursi misfey - eritreische Webtechnik | Workshop
DTSTART:20251125T180000
DTEND:20251125T200000
UID:2026-04-23-17-21-09-0-@calendar.boell.de
DTSTAMP:20260423T152109
DESCRIPTION:▶ Siehe Veranstaltungsbeschreibung – Kiel – Landesstiftun
 g Schleswig-Holstein
END:VEVENT
END:VCALENDAR
