BEGIN:VCALENDAR
VERSION:2.0
PRODID:-//ZContent.net//ZapCalLib 1.0//EN
CALSCALE:GREGORIAN
METHOD:PUBLISH
BEGIN:VEVENT
SUMMARY:AUSGEBUCHT: Progressiv und populistisch - wie wir Social Media zurÃ
 ¼ckgewinnen kÃ¶nnen
DTSTART:20250930T180000
DTEND:20250930T213000
UID:2026-04-23-17-21-31-0-@calendar.boell.de
DTSTAMP:20260423T152131
DESCRIPTION:â–¶ Online-Veranstaltung â€“ Petra-Kelly-Stiftung
END:VEVENT
END:VCALENDAR
