BEGIN:VCALENDAR
VERSION:2.0
PRODID:-//ZContent.net//ZapCalLib 1.0//EN
CALSCALE:GREGORIAN
METHOD:PUBLISH
BEGIN:VEVENT
SUMMARY:Alles im Fluss?! Wasser in der Krise | Bad Schmiedeberg | Ausstellu
 ng und Begleitprogramm in der Evangelischen Stadtkirche
DTSTART:20250901T120000
DTEND:20251005T113000
UID:2026-04-23-22-29-06-0-@calendar.boell.de
DTSTAMP:20260423T202906
DESCRIPTION:Landesstiftung Sachsen-Anhalt
END:VEVENT
END:VCALENDAR
