BEGIN:VCALENDAR
VERSION:2.0
PRODID:-//ZContent.net//ZapCalLib 1.0//EN
CALSCALE:GREGORIAN
METHOD:PUBLISH
BEGIN:VEVENT
SUMMARY:2. Kochkurs Kulturwochen Eritrea
DTSTART:20251121T170000
DTEND:20251121T200000
UID:2026-04-23-21-00-36-0-@calendar.boell.de
DTSTAMP:20260423T190036
DESCRIPTION:▶ Siehe Veranstaltungsbeschreibung – Kiel – Landesstiftun
 g Schleswig-Holstein
END:VEVENT
END:VCALENDAR
