BEGIN:VCALENDAR
VERSION:2.0
PRODID:-//ZContent.net//ZapCalLib 1.0//EN
CALSCALE:GREGORIAN
METHOD:PUBLISH
BEGIN:VEVENT
SUMMARY:Kaffeezeremonie | Ausklang
DTSTART:20251130T160000
DTEND:20251130T193000
UID:2026-04-23-04-49-30-0-@calendar.boell.de
DTSTAMP:20260423T024930
DESCRIPTION:▶ Siehe Veranstaltungsbeschreibung – Kiel – Landesstiftun
 g Schleswig-Holstein
END:VEVENT
END:VCALENDAR
