BEGIN:VCALENDAR
VERSION:2.0
PRODID:-//ZContent.net//ZapCalLib 1.0//EN
CALSCALE:GREGORIAN
METHOD:PUBLISH
BEGIN:VEVENT
SUMMARY:Kaffee: Unser täglicher Genuss als globale Verantwortung | Vortrag
DTSTART:20251130T140000
DTEND:20251130T153000
UID:2026-04-23-02-30-36-0-@calendar.boell.de
DTSTAMP:20260423T003036
DESCRIPTION:▶ Siehe Veranstaltungsbeschreibung – Kiel – Landesstiftun
 g Schleswig-Holstein
END:VEVENT
END:VCALENDAR
