BEGIN:VCALENDAR
VERSION:2.0
PRODID:-//ZContent.net//ZapCalLib 1.0//EN
CALSCALE:GREGORIAN
METHOD:PUBLISH
BEGIN:VEVENT
SUMMARY:Interkultureller Frauen-Brunch - Kultur im Dialog | Brunch
DTSTART:20251108T110000
DTEND:20251108T140000
UID:2026-04-25-18-19-22-0-@calendar.boell.de
DTSTAMP:20260425T161922
DESCRIPTION:▶ Siehe Veranstaltungsbeschreibung – Kiel – Landesstiftun
 g Schleswig-Holstein
END:VEVENT
END:VCALENDAR
