BEGIN:VCALENDAR
VERSION:2.0
PRODID:-//ZContent.net//ZapCalLib 1.0//EN
CALSCALE:GREGORIAN
METHOD:PUBLISH
BEGIN:VEVENT
SUMMARY:DIE MÃ–LLNER BRIEFE | Film-Premiere und GesprÃ¤ch
DTSTART:20250917T203000
DTEND:20250917T223000
UID:2026-04-23-21-01-15-0-@calendar.boell.de
DTSTAMP:20260423T190115
DESCRIPTION:â–¶ Siehe Veranstaltungsbeschreibung â€“ Berlin â€“ Heinrich-BÃ
 ¶ll-Stiftung - Bundesstiftung Berlin
END:VEVENT
END:VCALENDAR
