BEGIN:VCALENDAR
VERSION:2.0
PRODID:-//ZContent.net//ZapCalLib 1.0//EN
CALSCALE:GREGORIAN
METHOD:PUBLISH
BEGIN:VEVENT
SUMMARY:FUTURE 4D | Was braucht die kulturelle Veranstaltungswirtschaft?
DTSTART:20251001T100000
DTEND:20251001T170000
UID:2026-04-23-17-56-03-0-@calendar.boell.de
DTSTAMP:20260423T155603
DESCRIPTION:▶ Siehe Veranstaltungsbeschreibung – Köln – Landesstiftu
 ng Nordrhein-Westfalen
END:VEVENT
END:VCALENDAR
