BEGIN:VCALENDAR
VERSION:2.0
PRODID:-//ZContent.net//ZapCalLib 1.0//EN
CALSCALE:GREGORIAN
METHOD:PUBLISH
BEGIN:VEVENT
SUMMARY:Frauenfrühstück für Eritreerinnen | Essen
DTSTART:20251106T103000
DTEND:20251106T133000
UID:2026-04-23-21-00-31-0-@calendar.boell.de
DTSTAMP:20260423T190031
DESCRIPTION:▶ Siehe Veranstaltungsbeschreibung – Kiel – Landesstiftun
 g Schleswig-Holstein
END:VEVENT
END:VCALENDAR
