BEGIN:VCALENDAR
VERSION:2.0
PRODID:-//ZContent.net//ZapCalLib 1.0//EN
CALSCALE:GREGORIAN
METHOD:PUBLISH
BEGIN:VEVENT
SUMMARY:Eritrea Verborgenes Land | Lecture Performance Live Musik Finissage
DTSTART:20251127T200000
DTEND:20251127T220000
UID:2026-04-23-02-30-59-0-@calendar.boell.de
DTSTAMP:20260423T003059
DESCRIPTION:▶ Siehe Veranstaltungsbeschreibung – Kiel – Landesstiftun
 g Schleswig-Holstein
END:VEVENT
END:VCALENDAR
