BEGIN:VCALENDAR
VERSION:2.0
PRODID:-//ZContent.net//ZapCalLib 1.0//EN
CALSCALE:GREGORIAN
METHOD:PUBLISH
BEGIN:VEVENT
SUMMARY:Eine kleine Reise durch Eritrea | gemeinsamer Abend
DTSTART:20251128T190000
DTEND:20251128T210000
UID:2026-04-25-04-08-09-0-@calendar.boell.de
DTSTAMP:20260425T020809
DESCRIPTION:▶ Siehe Veranstaltungsbeschreibung – Kiel – Landesstiftun
 g Schleswig-Holstein
END:VEVENT
END:VCALENDAR
