BEGIN:VCALENDAR
VERSION:2.0
PRODID:-//ZContent.net//ZapCalLib 1.0//EN
CALSCALE:GREGORIAN
METHOD:PUBLISH
BEGIN:VEVENT
SUMMARY:Franziska Schutzbach: Revolution der Verbundenheit  | Lesung und Ge
 spräch mit Andrea Zimmermann in der Reihe Girl, Woman, Other 
DTSTART:20251010T193000
DTEND:20251010T210000
UID:2026-04-24-14-14-17-0-@calendar.boell.de
DTSTAMP:20260424T121417
DESCRIPTION:Freiburg – Heinrich Böll Stiftung Baden-Württemberg
END:VEVENT
END:VCALENDAR
