BEGIN:VCALENDAR
VERSION:2.0
PRODID:-//ZContent.net//ZapCalLib 1.0//EN
CALSCALE:GREGORIAN
METHOD:PUBLISH
BEGIN:VEVENT
SUMMARY:“Transición Energética en Chile: Balance, Desafíos y Alternati
 vas en Disputa”
DTSTART:20250812T093000
DTEND:20250812T133000
UID:2026-04-25-01-35-46-0-@calendar.boell.de
DTSTAMP:20260424T233546
DESCRIPTION:Heinrich-Böll-Stiftung Santiago de Chile - Chile\, Peru\, Boli
 vien
END:VEVENT
END:VCALENDAR
