BEGIN:VCALENDAR
VERSION:2.0
PRODID:-//ZContent.net//ZapCalLib 1.0//EN
CALSCALE:GREGORIAN
METHOD:PUBLISH
BEGIN:VEVENT
SUMMARY:Sexuelle Bildung unter Druck | Fachtag
DTSTART:20251022T120000
DTEND:20251022T180000
UID:2026-04-24-03-03-04-0-@calendar.boell.de
DTSTAMP:20260424T010304
DESCRIPTION:▶ Siehe Veranstaltungsbeschreibung – Landesstiftung Sachsen
  (Weiterdenken)
END:VEVENT
END:VCALENDAR
