BEGIN:VCALENDAR
VERSION:2.0
PRODID:-//ZContent.net//ZapCalLib 1.0//EN
CALSCALE:GREGORIAN
METHOD:PUBLISH
BEGIN:VEVENT
SUMMARY:Ein Tag ohne Frauen
DTSTART:20250918T173000
DTEND:20250918T193000
UID:2026-04-24-12-27-11-0-@calendar.boell.de
DTSTAMP:20260424T102711
DESCRIPTION:Gera – Landesstiftung Thüringen
END:VEVENT
END:VCALENDAR
