BEGIN:VCALENDAR
VERSION:2.0
PRODID:-//ZContent.net//ZapCalLib 1.0//EN
CALSCALE:GREGORIAN
METHOD:PUBLISH
BEGIN:VEVENT
SUMMARY:Gemeinsam Auftischen - Ernährungswochen SH 2025: Rest(e)los lecker
  | Eingelegt durch den Winter
DTSTART:20251023T160000
DTEND:20251023T180000
UID:2026-04-23-22-30-34-0-@calendar.boell.de
DTSTAMP:20260423T203034
DESCRIPTION:▶ Siehe Veranstaltungsbeschreibung – Kiel – Landesstiftun
 g Schleswig-Holstein
END:VEVENT
END:VCALENDAR
