BEGIN:VCALENDAR
VERSION:2.0
PRODID:-//ZContent.net//ZapCalLib 1.0//EN
CALSCALE:GREGORIAN
METHOD:PUBLISH
BEGIN:VEVENT
SUMMARY:Gemeinsam Auftischen - Ernährungswochen SH 2025: Ernte Teilen | Do
 kumentarfilm in der Pumpe
DTSTART:20251021T200000
DTEND:20251021T230000
UID:2026-04-23-22-29-12-0-@calendar.boell.de
DTSTAMP:20260423T202912
DESCRIPTION:▶ Siehe Veranstaltungsbeschreibung – Kiel – Landesstiftun
 g Schleswig-Holstein
END:VEVENT
END:VCALENDAR
