BEGIN:VCALENDAR
VERSION:2.0
PRODID:-//ZContent.net//ZapCalLib 1.0//EN
CALSCALE:GREGORIAN
METHOD:PUBLISH
BEGIN:VEVENT
SUMMARY:Gemeinsam Auftischen - Ernährungswochen SH 2025: Von Herzen kochen
  | Begegnung, die satt macht
DTSTART:20251021T090000
DTEND:20251021T130000
UID:2026-04-24-08-46-29-0-@calendar.boell.de
DTSTAMP:20260424T064629
DESCRIPTION:▶ Siehe Veranstaltungsbeschreibung – Kiel – Landesstiftun
 g Schleswig-Holstein
END:VEVENT
END:VCALENDAR
