BEGIN:VCALENDAR
VERSION:2.0
PRODID:-//ZContent.net//ZapCalLib 1.0//EN
CALSCALE:GREGORIAN
METHOD:PUBLISH
BEGIN:VEVENT
SUMMARY:Gemeinsam Auftischen - Ernährungswochen SH 2025: Kimchi & Co | "Ei
 nkochen" ist cool und Smoothies sind "in"!
DTSTART:20251018T140000
DTEND:20251018T180000
UID:2026-04-25-01-36-27-0-@calendar.boell.de
DTSTAMP:20260424T233627
DESCRIPTION:▶ Siehe Veranstaltungsbeschreibung – Landesstiftung Schlesw
 ig-Holstein
END:VEVENT
END:VCALENDAR
