BEGIN:VCALENDAR
VERSION:2.0
PRODID:-//ZContent.net//ZapCalLib 1.0//EN
CALSCALE:GREGORIAN
METHOD:PUBLISH
BEGIN:VEVENT
SUMMARY:Gemeinsam Auftischen - Ernährungswochen SH 2025: Unser Saatgut - S
 amenfeste Sorten | Film und Gespräch
DTSTART:20250925T193000
DTEND:20250925T213000
UID:2026-04-24-01-39-51-0-@calendar.boell.de
DTSTAMP:20260423T233951
DESCRIPTION:▶ Siehe Veranstaltungsbeschreibung – Landesstiftung Schlesw
 ig-Holstein
END:VEVENT
END:VCALENDAR
