BEGIN:VCALENDAR
VERSION:2.0
PRODID:-//ZContent.net//ZapCalLib 1.0//EN
CALSCALE:GREGORIAN
METHOD:PUBLISH
BEGIN:VEVENT
SUMMARY:Gemeinsam Auftischen - Ernährungswochen SH 2025: Mit Blatt, Schale
 , Strunk und Stiel | Kochkurs zu Food Waste in der Küche
DTSTART:20250916T180000
DTEND:20250916T220000
UID:2026-04-24-15-21-42-0-@calendar.boell.de
DTSTAMP:20260424T132142
DESCRIPTION:▶ Siehe Veranstaltungsbeschreibung – Kiel – Landesstiftun
 g Schleswig-Holstein
END:VEVENT
END:VCALENDAR
