BEGIN:VCALENDAR
VERSION:2.0
PRODID:-//ZContent.net//ZapCalLib 1.0//EN
CALSCALE:GREGORIAN
METHOD:PUBLISH
BEGIN:VEVENT
SUMMARY:Gemeinsam Auftischen - Ernährungswochen SH 2025: Einladung in den 
 Wandelgarten Großenwiehe | Offenes Garten-Event mit Inputs, Mitmach-Aktio
 nen und Begegnung
DTSTART:20250912T130000
DTEND:20250912T190000
UID:2026-04-24-12-50-30-0-@calendar.boell.de
DTSTAMP:20260424T105030
DESCRIPTION:▶ Siehe Veranstaltungsbeschreibung – Landesstiftung Schlesw
 ig-Holstein
END:VEVENT
END:VCALENDAR
