BEGIN:VCALENDAR
VERSION:2.0
PRODID:-//ZContent.net//ZapCalLib 1.0//EN
CALSCALE:GREGORIAN
METHOD:PUBLISH
BEGIN:VEVENT
SUMMARY:Gemeinsam Auftischen - Ernährungswochen SH 2025: Schnippeln, Shant
 ies & Smoothies | Interaktive Infoveranstaltung an Bord der Hansekogge in 
 Kiel
DTSTART:20250906T140000
DTEND:20250906T180000
UID:2026-04-25-03-31-23-0-@calendar.boell.de
DTSTAMP:20260425T013123
DESCRIPTION:▶ Siehe Veranstaltungsbeschreibung – Kiel – Landesstiftun
 g Schleswig-Holstein
END:VEVENT
END:VCALENDAR
