BEGIN:VCALENDAR
VERSION:2.0
PRODID:-//ZContent.net//ZapCalLib 1.0//EN
CALSCALE:GREGORIAN
METHOD:PUBLISH
BEGIN:VEVENT
SUMMARY:Wasserverfügbarkeit und Klimawandel - Die Elbe im oberen Elbtal | 
 Sofa-Gespräch im „Grünen Laden“
DTSTART:20250819T190000
DTEND:20250819T213000
UID:2026-04-25-03-31-32-0-@calendar.boell.de
DTSTAMP:20260425T013132
DESCRIPTION:▶ Siehe Veranstaltungsbeschreibung – 
END:VEVENT
END:VCALENDAR
