BEGIN:VCALENDAR
VERSION:2.0
PRODID:-//ZContent.net//ZapCalLib 1.0//EN
CALSCALE:GREGORIAN
METHOD:PUBLISH
BEGIN:VEVENT
SUMMARY:Auf den Spuren des ökologischen Landbaus im Meißner Land | Bildun
 gstag im Rahmen der Bio-Erlebnistage
DTSTART:20251003T090000
DTEND:20251003T143000
UID:2026-04-24-06-41-47-0-@calendar.boell.de
DTSTAMP:20260424T044147
DESCRIPTION:▶ Siehe Veranstaltungsbeschreibung – Landesstiftung Sachsen
  (Weiterdenken)
END:VEVENT
END:VCALENDAR
