BEGIN:VCALENDAR
VERSION:2.0
PRODID:-//ZContent.net//ZapCalLib 1.0//EN
CALSCALE:GREGORIAN
METHOD:PUBLISH
BEGIN:VEVENT
SUMMARY:On the Border 
DTSTART:20250915T173000
DTEND:20250915T173000
UID:2026-04-25-03-31-03-0-@calendar.boell.de
DTSTAMP:20260425T013103
DESCRIPTION:Gauting – Petra-Kelly-Stiftung
END:VEVENT
END:VCALENDAR
