BEGIN:VCALENDAR
VERSION:2.0
PRODID:-//ZContent.net//ZapCalLib 1.0//EN
CALSCALE:GREGORIAN
METHOD:PUBLISH
BEGIN:VEVENT
SUMMARY:Nicht neutral! Verein(t) Haltung zeigen
DTSTART:20251006T180000
DTEND:20251006T200000
UID:2026-04-25-05-01-20-0-@calendar.boell.de
DTSTAMP:20260425T030120
DESCRIPTION:▶ Online-Veranstaltung – Landesstiftung Sachsen-Anhalt
END:VEVENT
END:VCALENDAR
