BEGIN:VCALENDAR
VERSION:2.0
PRODID:-//ZContent.net//ZapCalLib 1.0//EN
CALSCALE:GREGORIAN
METHOD:PUBLISH
BEGIN:VEVENT
SUMMARY:Populistische Spiele. Bullshit als politische Strategie.  | Eine mu
 ltimediale Lesung 
DTSTART:20250911T190000
DTEND:20250911T210000
UID:2026-04-24-02-49-37-0-@calendar.boell.de
DTSTAMP:20260424T004937
DESCRIPTION:Halle (Saale) – Landesstiftung Sachsen-Anhalt
END:VEVENT
END:VCALENDAR
