BEGIN:VCALENDAR
VERSION:2.0
PRODID:-//ZContent.net//ZapCalLib 1.0//EN
CALSCALE:GREGORIAN
METHOD:PUBLISH
BEGIN:VEVENT
SUMMARY:Dekoloniale Erinnerung und soziale Bewegungen in Friedrichshain | S
 tadtspaziergang
DTSTART:20251019T150000
DTEND:20251019T173000
UID:2026-04-24-11-49-03-0-@calendar.boell.de
DTSTAMP:20260424T094903
DESCRIPTION:▶ Siehe Veranstaltungsbeschreibung – Landesstiftung Berlin 
 (Bildungswerk)
END:VEVENT
END:VCALENDAR
