BEGIN:VCALENDAR
VERSION:2.0
PRODID:-//ZContent.net//ZapCalLib 1.0//EN
CALSCALE:GREGORIAN
METHOD:PUBLISH
BEGIN:VEVENT
SUMMARY:Eat & Talk | An Evening with Kenyan Chef Njathi Kabui
DTSTART:20251016T180000
DTEND:20251016T200000
UID:2026-04-25-13-27-07-0-@calendar.boell.de
DTSTAMP:20260425T112707
DESCRIPTION:Heinrich-Böll-Stiftung - Bundesstiftung Berlin – Berlin – 
 Heinrich-Böll-Stiftung - Bundesstiftung Berlin
END:VEVENT
END:VCALENDAR
