BEGIN:VCALENDAR
VERSION:2.0
PRODID:-//ZContent.net//ZapCalLib 1.0//EN
CALSCALE:GREGORIAN
METHOD:PUBLISH
BEGIN:VEVENT
SUMMARY:Keine* mehr! Medienwirksame feministische Narrative und Pressearbei
 t | Ein zweiteiliger Methoden-Workshop für politisch engagierte FLINTA*
DTSTART:20250830T100000
DTEND:20250831T170000
UID:2026-04-26-04-41-23-0-@calendar.boell.de
DTSTAMP:20260426T024123
DESCRIPTION:▶ Siehe Veranstaltungsbeschreibung – Berlin – Landesstift
 ung Berlin (Bildungswerk)
END:VEVENT
END:VCALENDAR
