BEGIN:VCALENDAR
VERSION:2.0
PRODID:-//ZContent.net//ZapCalLib 1.0//EN
CALSCALE:GREGORIAN
METHOD:PUBLISH
BEGIN:VEVENT
SUMMARY:Gemeinsam Auftischen – Ernährungswochen SH 2025: Buntes Hoffest 
 | für Mensch und Natur
DTSTART:20250927T110000
DTEND:20250927T163000
UID:2026-04-25-05-49-48-0-@calendar.boell.de
DTSTAMP:20260425T034948
DESCRIPTION:▶ Siehe Veranstaltungsbeschreibung – Landesstiftung Schlesw
 ig-Holstein
END:VEVENT
END:VCALENDAR
