BEGIN:VCALENDAR
VERSION:2.0
PRODID:-//ZContent.net//ZapCalLib 1.0//EN
CALSCALE:GREGORIAN
METHOD:PUBLISH
BEGIN:VEVENT
SUMMARY:Vegan Fjørd Festival trifft Gemeinsam Auftischen – Ernährungswo
 chen SH 2025 | Impulse für eine genussvolle und zukunftsfähige Ernährun
 g
DTSTART:20250920T140000
DTEND:20250920T180000
UID:2026-04-25-04-08-15-0-@calendar.boell.de
DTSTAMP:20260425T020815
DESCRIPTION:▶ Siehe Veranstaltungsbeschreibung – Landesstiftung Schlesw
 ig-Holstein
END:VEVENT
END:VCALENDAR
