BEGIN:VCALENDAR
VERSION:2.0
PRODID:-//ZContent.net//ZapCalLib 1.0//EN
CALSCALE:GREGORIAN
METHOD:PUBLISH
BEGIN:VEVENT
SUMMARY:Das Wasser in der Landschaft halten - auf dem Umweltfest | Wie wir 
 auch in Zukunft ausreichend Wasser in Brandenburg haben
DTSTART:20250928T110000
DTEND:20250928T173000
UID:2026-04-24-02-49-00-0-@calendar.boell.de
DTSTAMP:20260424T004900
DESCRIPTION:▶ Siehe Veranstaltungsbeschreibung – Potsdam – Landesstif
 tung Brandenburg
END:VEVENT
END:VCALENDAR
